BEGIN:VCALENDAR
VERSION:2.0
PRODID:-//Riverview Project - ECPv6.15.18//NONSGML v1.0//EN
CALSCALE:GREGORIAN
METHOD:PUBLISH
X-ORIGINAL-URL:https://riverviewproject.gr
X-WR-CALDESC:Events for Riverview Project
REFRESH-INTERVAL;VALUE=DURATION:PT1H
X-Robots-Tag:noindex
X-PUBLISHED-TTL:PT1H
BEGIN:VTIMEZONE
TZID:Europe/Athens
BEGIN:DAYLIGHT
TZOFFSETFROM:+0200
TZOFFSETTO:+0300
TZNAME:EEST
DTSTART:20240331T010000
END:DAYLIGHT
BEGIN:STANDARD
TZOFFSETFROM:+0300
TZOFFSETTO:+0200
TZNAME:EET
DTSTART:20241027T010000
END:STANDARD
BEGIN:DAYLIGHT
TZOFFSETFROM:+0200
TZOFFSETTO:+0300
TZNAME:EEST
DTSTART:20250330T010000
END:DAYLIGHT
BEGIN:STANDARD
TZOFFSETFROM:+0300
TZOFFSETTO:+0200
TZNAME:EET
DTSTART:20251026T010000
END:STANDARD
BEGIN:DAYLIGHT
TZOFFSETFROM:+0200
TZOFFSETTO:+0300
TZNAME:EEST
DTSTART:20260329T010000
END:DAYLIGHT
BEGIN:STANDARD
TZOFFSETFROM:+0300
TZOFFSETTO:+0200
TZNAME:EET
DTSTART:20261025T010000
END:STANDARD
END:VTIMEZONE
BEGIN:VEVENT
DTSTART;TZID=Europe/Athens:20250317T090000
DTEND;TZID=Europe/Athens:20250317T130000
DTSTAMP:20260420T081015
CREATED:20250305T164928Z
LAST-MODIFIED:20250312T110847Z
UID:4185-1742202000-1742216400@riverviewproject.gr
SUMMARY:Εκπαιδευτική δράση "ΖΩΟΔΟΤΗΣ ΑΧΕΛΩΟΣ"
DESCRIPTION:💦Έπειτα από πρόταση του 5ου ΓΕΛ Αγρινίου του οποίου εκπαιδευτικοί και μαθητές συμμετέχουν στο διεθνές εκπαιδευτικό δίκτυο με τίτλο “Myth to space” και έχουν ως θέμα τον Αχελώο και σε συνδυασμό με την Παγκόσμια Ημερα Νερού που εορτάζεται κάθε χρόνο στις 22 Μαρτίου\, συνδιοργανώνουμε την Δευτέρα 17 Μαρτίου στη λίμνη Στράτου την εκπαιδευτική δράση με τίτλο “ΖΩΟΔΟΤΗΣ ΑΧΕΛΩΟΣ”\, όπου θα προσπαθήσουμε να προσεγγίσουμε τον Αχελώο από μυθολογική\, περιβαλλοντική και αναπτυξιακή σκοπιά. \n🤝Η δράση στην οποία θα συμμετέχουν περίπου 50 μαθητές και εκπαιδευτικοί υποστηρίζεται από την Εφορεία Αρχαιοτήτων Αιτωλοακαρνανίας και Λευκάδας\, τη Δ.Ε.Υ.Α. Αγρινίου\, τη Μονάδα Διαχείρισης Εθνικού Πάρκου Μεσολογγίου και Προστατευόμενων Περιοχών Δυτικής Στερεάς Ελλάδας του Ο.ΦΥ.ΠΕ.Κ.Α.\, τη ΔΕΗ Α.Ε.\, την Ελληνική Ομοσπονδία Θαλάσσιου Σκι και τον Δήμο Αγρινίου. \nΠρόγραμμα: \n■Ξενάγηση \n9:00 “Ο ΑΧΕΛΩΟΣ ΣΤΗΝ ΑΡΧΑΙΟΤΗΤΑ”\nΕφορεία Αρχαιοτήτων Αιτωλοακαρνανίας και Λευκάδας\n📍Αρχαίο Θέατρο Στράτου \n10:00 “ΥΔΡΟΗΛΕΚΤΡΙΚΗ ΕΝΕΡΓΕΙΑ”\nΔΕΗ Α.Ε.\n📍Υδροηλεκτρικό Φράγμα Καστρακίου \n10:45 “ΠΟΣΙΜΟ ΝΕΡΟ”\nΔ.Ε.Υ.Α. ΑΓΡΙΝΙΟΥ\n📍Εγκαταστάσεις επεξεργασίας πόσιμου νερού Δ.Ε.Υ.Α.Α.\, Σπολάιτα Αγρινίου \n■Ενημέρωση \n11:30 “Η ΠΡΟΣΤΑΣΙΑ ΤΟΥ ΑΧΕΛΩΟΥ”\nΜονάδα Διαχείρισης Εθνικού Πάρκου Μεσολογγίου και Προστατευόμενων Περιοχών Δυτικής Στερεάς Ελλάδας του Ο.ΦΥ.ΠΕ.Κ.Α.\n📍Εθνικό Κέντρο Θαλάσσιου Σκι \n12:00 “ΘΑΛΑΣΣΙΟ ΣΚΙ ΣΤΗ ΛΙΜΝΗ ΣΤΡΑΤΟΥ”\n(ΑΝΑΛΥΣΗ ΚΑΙ ΕΠΙΔΕΙΞΗ ΤΟΥ ΑΘΛΗΜΑΤΟΣ)\nΕλληνική Ομοσπονδία Θαλάσσιου Σκι\n📍Εθνικό Κέντρο Θαλάσσιου Σκι \n⚠️Στο πρώτο μέρος που αφορά την ξενάγηση θα συμμετέχουν δυστυχώς για λόγους ασφαλείας μόνο μαθητές και εκπαιδευτικοί\, για τους οποίους έτσι αλλιώς διοργανώνεται η δράση\, καθώς στα αξιοθέατα που θα επισκεφθούμε εκτελούνται έργα και υπάρχουν περιορισμοί. Παρόλα αυτά έπειτα από επικοινωνία μαζί μας και για μικρό αριθμό ενδιαφερομένων θα μπορούν συμπολίτες ή συνεργάτες μας να μας ακολουθήσουν. \nℹ️Το δεύτερο μέρος που είναι ενημερωτικό και επίσης ενδιαφέρον και θα υλοποιηθεί στο χώρο του Εθνικού Κέντρου Θαλάσσιου Σκι στις 11:30 είναι ελεύθερο για όλους. Η παρουσίαση μάλιστα του αθλήματος του Θαλάσσιου Σκι και της προοπτική του στην περιοχή μας από τους ειδικούς και η επίδειξή του από νέους αθλητές θα πραγματοποιηθεί με λεπτομέρειες πιθανώς για πρώτη φορά στο κοινό. \n🙏Σας προσκαλούμε λοιπόν όσους ενδιαφέρεστε να ενημερωθείτε για το νερό και να γνωρίσετε καλύτερα τα συγκριτικά πλεονεκτήματα του Αχελώου να ακολουθήσετε αυτή τη δράση ευαισθητοποίησης που επικεντρώνεται στα παιδιά\, σε μια κρίσιμη περίοδο για τα νερά της περιοχή μας. \nΕπικοινωνία: \nΤηλ. 6948125496 \nEmail: info@riverviewproject.gr \n  \n#mythtospace #worldwaterday #event
URL:https://riverviewproject.gr/event/%ce%b5%ce%ba%cf%80%ce%b1%ce%b9%ce%b4%ce%b5%cf%85%cf%84%ce%b9%ce%ba%ce%ae-%ce%b4%cf%81%ce%ac%cf%83%ce%b7-%ce%b6%cf%89%ce%bf%ce%b4%cf%8c%cf%84%ce%b7%cf%82-%ce%b1%cf%87%ce%b5%ce%bb%cf%8e%ce%bf%cf%82/
LOCATION:Λίμνη Στράτου\, Λίμνη Στράτου\, Ματσούκι\, Αιτωλοακαρνανίας\, 30100\, Ελλάδα
CATEGORIES:Δράσεις
ATTACH;FMTTYPE=image/png:https://riverviewproject.gr/wp-content/uploads/2025/03/Neutral-Upcoming-Events-Facebook-Post.png
ORGANIZER;CN="Riverview Project":MAILTO:info@riverviewproject.gr
END:VEVENT
END:VCALENDAR